BEGIN:VCALENDAR
VERSION:2.0
PRODID:-//Benjamin Dean - ECPv6.0.9//NONSGML v1.0//EN
CALSCALE:GREGORIAN
METHOD:PUBLISH
X-ORIGINAL-URL:https://benjamindean.us
X-WR-CALDESC:Events for Benjamin Dean
REFRESH-INTERVAL;VALUE=DURATION:PT1H
X-Robots-Tag:noindex
X-PUBLISHED-TTL:PT1H
BEGIN:VTIMEZONE
TZID:UTC
BEGIN:STANDARD
TZOFFSETFROM:+0000
TZOFFSETTO:+0000
TZNAME:UTC
DTSTART:19870101T000000
END:STANDARD
END:VTIMEZONE
BEGIN:VEVENT
DTSTART;TZID=UTC:19870513T200000
DTEND;TZID=UTC:19870513T220000
DTSTAMP:20260420T184213
CREATED:20230213T020523Z
LAST-MODIFIED:20230213T020616Z
UID:787-547934400-547941600@benjamindean.us
SUMMARY:THE PLAYGROUND
DESCRIPTION:Public Staged Reading at Actors Lab with actors Mick Weber and Peter Guttmacher.
URL:https://benjamindean.us/event/the-playground/
LOCATION:Circle Repertory Theatre\, New York City\, New York\, United States
END:VEVENT
BEGIN:VEVENT
DTSTART;TZID=UTC:19870311T190000
DTEND;TZID=UTC:19870311T210000
DTSTAMP:20260420T184213
CREATED:20230211T200335Z
LAST-MODIFIED:20230213T020138Z
UID:446-542487600-542494800@benjamindean.us
SUMMARY:THE PLAYGROUND
DESCRIPTION:Public Staged Reading
URL:https://benjamindean.us/event/public-staged-reading-the-playground/
LOCATION:Lee Strasberg Institute\, 115 East 15th Street\, New York\, NY\, 10003\, United States
CATEGORIES:Events
END:VEVENT
END:VCALENDAR